BEGIN:VCALENDAR
VERSION:2.0
PRODID:-//hacksw/handcal//NONSGML v1.0//EN
BEGIN:VEVENT
SUMMARY:Rencontre Eveil Athle / Poussin
UID:aa9fae2d-c9b0-4736-8e63-51f7954a1078
DTSTART:20260507T220000Z
DTEND:20260508T220000Z
LOCATION:Localisation   
CATEGORIES:Sportif
STATUS:
URL;VALUE=URI:https://www.esmathle.fr/evenements/2026/05/08/rencontre-eveil-athle-poussin-2437943
END:VEVENT
END:VCALENDAR
