BEGIN:VCALENDAR
VERSION:2.0
PRODID:-//hacksw/handcal//NONSGML v1.0//EN
BEGIN:VEVENT
SUMMARY:Regionaux Equip’athle  44/85
UID:ae833af3-601b-4208-b9d5-8316809f1a7c
DTSTART:20260509T220000Z
DTEND:20260510T220000Z
LOCATION:Localisation   
CATEGORIES:Sportif
STATUS:
URL;VALUE=URI:https://www.esmathle.fr/evenements/2026/05/10/regionaux-equipathle-4485-2437945
END:VEVENT
END:VCALENDAR
