BEGIN:VCALENDAR
VERSION:2.0
PRODID:-//hacksw/handcal//NONSGML v1.0//EN
BEGIN:VEVENT
SUMMARY:Regionaux Ep Comb
UID:f5d8d8aa-b7db-41ac-96ea-18dbc91c7903
DTSTART:20260522T220000Z
DTEND:20260524T220000Z
LOCATION:Localisation   
CATEGORIES:Sportif
STATUS:
URL;VALUE=URI:https://www.esmathle.fr/evenements/2026/05/23/regionaux-ep-comb-2437950
END:VEVENT
END:VCALENDAR
